BEGIN:VCALENDAR
VERSION:2.0
METHOD:REQUEST
BEGIN:VEVENT
X-WR-TIMEZONE:Europe/London
UID:73829f45a5244f604cb7a08c8b9bd3da-
DTSTAMP:20260421T175317Z
DTSTART:20260927T080000Z
DTEND:20260927T140000Z
SUMMARY:Autumn Autojumble
ORGANIZER;CN=Battlesbridge Antiques Centre:mailto:info@battlesbridgeantiques.co.uk
LOCATION:Battlesbridge, Essex, UK
DESCRIPTION:Battlesbridge Antiques Centre  at 
URL;VALUE=URI:http%3A%2F%2Fwww.battlesbridge.comevents/autumn-autojumble
END:VEVENT
END:VCALENDAR