BEGIN:VCALENDAR
VERSION:2.0
METHOD:REQUEST
BEGIN:VEVENT
X-WR-TIMEZONE:Europe/London
UID:cc7169bf670285b142acd4a367d123ef-
DTSTAMP:20260420T052051Z
DTSTART:20260510T080000Z
DTEND:20260510T140000Z
SUMMARY:Spring Autojumble
ORGANIZER;CN=Battlesbridge Antiques Centre:mailto:info@battlesbridgeantiques.co.uk
LOCATION:Battlesbridge, Essex, UK
DESCRIPTION:Battlesbridge Antiques Centre  at 
URL;VALUE=URI:http%3A%2F%2Fwww.battlesbridge.comevents/spring-autojumble
END:VEVENT
END:VCALENDAR